BEGIN:VCALENDAR
VERSION:2.0
BEGIN:VEVENT
URL:https://tickets.oztix.com.au/outlet/event/c1568e39-b72f-4390-9bb8-22bdedfd971e
DTSTART:20260514T093000Z
DTEND:20260514T093000Z
SUMMARY:Ross Noble - Cranium of Curiosities
DESCRIPTION:Event details: https://tickets.oztix.com.au/outlet/event/c1568e39-b72f-4390-9bb8-22bdedfd971e
LOCATION:Kingaroy Town Hall (Kingaroy, QLD)
END:VEVENT
END:VCALENDAR