BEGIN:VCALENDAR
VERSION:2.0
BEGIN:VEVENT
URL:https://tickets.oztix.com.au/outlet/event/c139c4fb-8527-4237-9dc1-7e968340b700
DTSTART:20260426T040000Z
DTEND:20260426T040000Z
SUMMARY:HELMET - Betty-Fest
DESCRIPTION:Event details: https://tickets.oztix.com.au/outlet/event/c139c4fb-8527-4237-9dc1-7e968340b700
LOCATION:Northcote Theatre (Northcote, VIC)
END:VEVENT
END:VCALENDAR