BEGIN:VCALENDAR
VERSION:2.0
BEGIN:VEVENT
URL:https://tickets.oztix.com.au/outlet/event/c11efbf9-3f78-4590-b296-d43d651c81bd
DTSTART:20260524T040000Z
DTEND:20260524T040000Z
SUMMARY:June Low & The Highs - Double Single Launch
DESCRIPTION:Event details: https://tickets.oztix.com.au/outlet/event/c11efbf9-3f78-4590-b296-d43d651c81bd
LOCATION:The Junk Bar (New Farm, QLD)
END:VEVENT
END:VCALENDAR