BEGIN:VCALENDAR
VERSION:2.0
BEGIN:VEVENT
URL:https://tickets.oztix.com.au/outlet/event/c0e5723b-2f0b-43ea-9bef-aee4431cb981
DTSTART:20260423T090000Z
DTEND:20260423T090000Z
SUMMARY:STAHR - BLIP East Coast Tour
DESCRIPTION:Event details: https://tickets.oztix.com.au/outlet/event/c0e5723b-2f0b-43ea-9bef-aee4431cb981
LOCATION:Mo's Desert Clubhouse (Burleigh Heads, QLD)
END:VEVENT
END:VCALENDAR