BEGIN:VCALENDAR
VERSION:2.0
BEGIN:VEVENT
URL:https://tickets.oztix.com.au/outlet/event/c0dfe097-ba3c-4d7e-af06-1c15c11767d8
DTSTART:20260424T113000Z
DTEND:20260424T113000Z
SUMMARY:Souleil: Underground Sessions
DESCRIPTION:Event details: https://tickets.oztix.com.au/outlet/event/c0dfe097-ba3c-4d7e-af06-1c15c11767d8
LOCATION:Lyric's Underground (Maylands, WA)
END:VEVENT
END:VCALENDAR