BEGIN:VCALENDAR
VERSION:2.0
BEGIN:VEVENT
URL:https://tickets.oztix.com.au/outlet/event/c085fb35-d02e-48f4-9dd4-74eebcfbfcc2
DTSTART:20260515T080000Z
DTEND:20260515T080000Z
SUMMARY:Locals Night Vol. 6
DESCRIPTION:Event details: https://tickets.oztix.com.au/outlet/event/c085fb35-d02e-48f4-9dd4-74eebcfbfcc2
LOCATION:Torquay Hotel (Torquay, VIC)
END:VEVENT
END:VCALENDAR