BEGIN:VCALENDAR
VERSION:2.0
BEGIN:VEVENT
URL:https://tickets.oztix.com.au/outlet/event/c04c3524-6f43-4ace-aaf7-79547f542364
DTSTART:20260502T110000Z
DTEND:20260502T110000Z
SUMMARY:Reece Mastin LIVE at Warners Bay Hotel
DESCRIPTION:Event details: https://tickets.oztix.com.au/outlet/event/c04c3524-6f43-4ace-aaf7-79547f542364
LOCATION:Warners Bay Hotel (Warner's Bay, NSW)
END:VEVENT
END:VCALENDAR