BEGIN:VCALENDAR
VERSION:2.0
BEGIN:VEVENT
URL:https://tickets.oztix.com.au/outlet/event/c016f36d-2bb3-4ceb-8f17-a71e55292766
DTSTART:20260502T110000Z
DTEND:20260502T110000Z
SUMMARY:AYO BUSARI
DESCRIPTION:Event details: https://tickets.oztix.com.au/outlet/event/c016f36d-2bb3-4ceb-8f17-a71e55292766
LOCATION:Milk Bar (Inglewood, WA)
END:VEVENT
END:VCALENDAR