BEGIN:VCALENDAR
VERSION:2.0
BEGIN:VEVENT
URL:https://tickets.oztix.com.au/outlet/event/bfc1e868-8978-4309-81d5-f127540dc28b
DTSTART:20260516T020000Z
DTEND:20260517T080000Z
SUMMARY:The Beer Footy & Food Festival - North Sydney
DESCRIPTION:Event details: https://tickets.oztix.com.au/outlet/event/bfc1e868-8978-4309-81d5-f127540dc28b
LOCATION:North Sydney Oval (North Sydney, NSW)
END:VEVENT
END:VCALENDAR