BEGIN:VCALENDAR
VERSION:2.0
BEGIN:VEVENT
URL:https://tickets.oztix.com.au/outlet/event/bfbc236a-1e73-435d-98ac-17e44cc8ee27
DTSTART:20260718T100000Z
DTEND:20260718T100000Z
SUMMARY:Between The Buried And Me
DESCRIPTION:Event details: https://tickets.oztix.com.au/outlet/event/bfbc236a-1e73-435d-98ac-17e44cc8ee27
LOCATION:Crowbar Sydney (Leichhardt, NSW)
END:VEVENT
END:VCALENDAR