BEGIN:VCALENDAR
VERSION:2.0
BEGIN:VEVENT
URL:https://tickets.oztix.com.au/outlet/event/beebf552-52a7-4e27-84d6-86b2fd5d19e1
DTSTART:20260725T100000Z
DTEND:20260725T100000Z
SUMMARY:Abbalanche
DESCRIPTION:Event details: https://tickets.oztix.com.au/outlet/event/beebf552-52a7-4e27-84d6-86b2fd5d19e1
LOCATION:Doyalson RSL (Doyalson, NSW)
END:VEVENT
END:VCALENDAR