BEGIN:VCALENDAR
VERSION:2.0
BEGIN:VEVENT
URL:https://tickets.oztix.com.au/outlet/event/bdd4934a-5e6c-43e8-a29e-a0a8424cbf40
DTSTART:20260424T113000Z
DTEND:20260424T113000Z
SUMMARY:Inhuman Nature EP Launch
DESCRIPTION:Event details: https://tickets.oztix.com.au/outlet/event/bdd4934a-5e6c-43e8-a29e-a0a8424cbf40
LOCATION:Lynott's Lounge (Northbridge, WA)
END:VEVENT
END:VCALENDAR