BEGIN:VCALENDAR
VERSION:2.0
BEGIN:VEVENT
URL:https://tickets.oztix.com.au/outlet/event/bdbe5c53-ffbe-488e-9ffa-bbde97420f32
DTSTART:20260703T113000Z
DTEND:20260703T113000Z
SUMMARY:RED, WHITE & BLUE HOEDOWN
DESCRIPTION:Event details: https://tickets.oztix.com.au/outlet/event/bdbe5c53-ffbe-488e-9ffa-bbde97420f32
LOCATION:Monsoons (Darwin, NT)
END:VEVENT
END:VCALENDAR