BEGIN:VCALENDAR
VERSION:2.0
BEGIN:VEVENT
URL:https://tickets.oztix.com.au/outlet/event/bd65dba5-1666-43ab-9794-d018d5f5dd42
DTSTART:20261031T090000Z
DTEND:20261031T090000Z
SUMMARY:Alex Lloyd
DESCRIPTION:Event details: https://tickets.oztix.com.au/outlet/event/bd65dba5-1666-43ab-9794-d018d5f5dd42
LOCATION:Royal Quarters (Nundah, QLD)
END:VEVENT
END:VCALENDAR