BEGIN:VCALENDAR
VERSION:2.0
BEGIN:VEVENT
URL:https://tickets.oztix.com.au/outlet/event/bd515ffe-d5ab-4a29-8d03-fc7f1ec8af74
DTSTART:20260422T112000Z
DTEND:20260422T112000Z
SUMMARY:Ali G Indahouse (MA  15+) PRESENTED IN 35MM FILM
DESCRIPTION:Event details: https://tickets.oztix.com.au/outlet/event/bd515ffe-d5ab-4a29-8d03-fc7f1ec8af74
LOCATION:The Revival House Perth (Como, WA)
END:VEVENT
END:VCALENDAR