BEGIN:VCALENDAR
VERSION:2.0
BEGIN:VEVENT
URL:https://tickets.oztix.com.au/outlet/event/bb943a15-c6e0-4a62-81e0-80619288a5cd
DTSTART:20260724T083000Z
DTEND:20260724T083000Z
SUMMARY:Songs of Chris Stapleton & Zac Brown Band
DESCRIPTION:Event details: https://tickets.oztix.com.au/outlet/event/bb943a15-c6e0-4a62-81e0-80619288a5cd
LOCATION:Hepburn Palais (Hepburn Springs, VIC)
END:VEVENT
END:VCALENDAR