BEGIN:VCALENDAR
VERSION:2.0
BEGIN:VEVENT
URL:https://tickets.oztix.com.au/outlet/event/baf9d221-8e8a-445b-b599-28eb7e0bcd81
DTSTART:20260516T040000Z
DTEND:20260516T040000Z
SUMMARY:MURPHY'S LAW 2026 AUS & NZ TOUR - SYDNEY
DESCRIPTION:Event details: https://tickets.oztix.com.au/outlet/event/baf9d221-8e8a-445b-b599-28eb7e0bcd81
LOCATION:The Chippo Hotel (Chippendale, NSW)
END:VEVENT
END:VCALENDAR