BEGIN:VCALENDAR
VERSION:2.0
BEGIN:VEVENT
URL:https://tickets.oztix.com.au/outlet/event/ba5649af-7319-4e22-a043-1b1441251395
DTSTART:20260502T234500Z
DTEND:20260502T234500Z
SUMMARY:GourMay Mary Valley - FESTIVAL DAY & BIG PICNIC
DESCRIPTION:Event details: https://tickets.oztix.com.au/outlet/event/ba5649af-7319-4e22-a043-1b1441251395
LOCATION:Imbil Rail Park (Imbil, QLD)
END:VEVENT
END:VCALENDAR