BEGIN:VCALENDAR
VERSION:2.0
BEGIN:VEVENT
URL:https://tickets.oztix.com.au/outlet/event/b84dfec8-7d35-41fd-8c1c-6d5ffa57c3a5
DTSTART:20261125T080000Z
DTEND:20261125T080000Z
SUMMARY:YĪN YĪN
DESCRIPTION:Event details: https://tickets.oztix.com.au/outlet/event/b84dfec8-7d35-41fd-8c1c-6d5ffa57c3a5
LOCATION:Mullumbimby Civic Hall (Mullumbimby, NSW)
END:VEVENT
END:VCALENDAR