BEGIN:VCALENDAR
VERSION:2.0
BEGIN:VEVENT
URL:https://tickets.oztix.com.au/outlet/event/b69fe6ca-99f9-4124-b187-dbbc0f610fa9
DTSTART:20260613T100000Z
DTEND:20260613T100000Z
SUMMARY:Battle Of The Bridge ft. Baron Von Trax + friends
DESCRIPTION:Event details: https://tickets.oztix.com.au/outlet/event/b69fe6ca-99f9-4124-b187-dbbc0f610fa9
LOCATION:Barwon Heads Hotel (Barwon Heads, VIC)
END:VEVENT
END:VCALENDAR