BEGIN:VCALENDAR
VERSION:2.0
BEGIN:VEVENT
URL:https://tickets.oztix.com.au/outlet/event/b5049e4c-ad02-4d26-8f10-25d4b8bf3231
DTSTART:20260425T090000Z
DTEND:20260425T090000Z
SUMMARY:Arkangel Down South Tour w/Seek Misery & Tranquility Unknown
DESCRIPTION:Event details: https://tickets.oztix.com.au/outlet/event/b5049e4c-ad02-4d26-8f10-25d4b8bf3231
LOCATION:Twisted Lime (Hobart, TAS)
END:VEVENT
END:VCALENDAR