BEGIN:VCALENDAR
VERSION:2.0
BEGIN:VEVENT
URL:https://tickets.oztix.com.au/outlet/event/b4d0bfc1-59ae-4677-8636-c2d306bc7315
DTSTART:20260424T090000Z
DTEND:20260424T090000Z
SUMMARY:Ashton's - The Great Australian Circus
DESCRIPTION:Event details: https://tickets.oztix.com.au/outlet/event/b4d0bfc1-59ae-4677-8636-c2d306bc7315
LOCATION:Armidale Showground (Armidale, NSW)
END:VEVENT
END:VCALENDAR