BEGIN:VCALENDAR
VERSION:2.0
BEGIN:VEVENT
URL:https://tickets.oztix.com.au/outlet/event/b4bbbba3-72c8-4e61-b674-508b3322fa99
DTSTART:20260912T020000Z
DTEND:20260912T020000Z
SUMMARY:Triple B Rodeo Series -  The Final Showdown
DESCRIPTION:Event details: https://tickets.oztix.com.au/outlet/event/b4bbbba3-72c8-4e61-b674-508b3322fa99
LOCATION:Caboolture Showgrounds (Caboolture , QLD)
END:VEVENT
END:VCALENDAR