BEGIN:VCALENDAR
VERSION:2.0
BEGIN:VEVENT
URL:https://tickets.oztix.com.au/outlet/event/b493440f-0539-4df5-afb7-5042e0f84f14
DTSTART:20260508T093000Z
DTEND:20260508T093000Z
SUMMARY:360 - BacknForth Tour
DESCRIPTION:Event details: https://tickets.oztix.com.au/outlet/event/b493440f-0539-4df5-afb7-5042e0f84f14
LOCATION:The Warehouse Bandroom  (Townsville, QLD)
END:VEVENT
END:VCALENDAR