BEGIN:VCALENDAR
VERSION:2.0
BEGIN:VEVENT
URL:https://tickets.oztix.com.au/outlet/event/b4313d6b-2034-4080-b44b-05004ed57920
DTSTART:20260516T093000Z
DTEND:20260516T093000Z
SUMMARY:Album Launch - Rose Carleo Band
DESCRIPTION:Event details: https://tickets.oztix.com.au/outlet/event/b4313d6b-2034-4080-b44b-05004ed57920
LOCATION:Marrickville Bowling Club (Marrickville, NSW)
END:VEVENT
END:VCALENDAR