BEGIN:VCALENDAR
VERSION:2.0
BEGIN:VEVENT
URL:https://tickets.oztix.com.au/outlet/event/b2fff341-0a92-46c6-8ab2-a1f27c2200f4
DTSTART:20260521T090000Z
DTEND:20260521T090000Z
SUMMARY:Parasite Farm - Welcome to the Farm
DESCRIPTION:Event details: https://tickets.oztix.com.au/outlet/event/b2fff341-0a92-46c6-8ab2-a1f27c2200f4
LOCATION:The Workers Club (Fitzroy, VIC)
END:VEVENT
END:VCALENDAR