BEGIN:VCALENDAR
VERSION:2.0
BEGIN:VEVENT
URL:https://tickets.oztix.com.au/outlet/event/b2962c06-f5eb-4a9d-9a1b-300754c08389
DTSTART:20260425T090000Z
DTEND:20260425T090000Z
SUMMARY:HOT PINK AUSTRALIAN TRIBUTE SHOW
DESCRIPTION:Event details: https://tickets.oztix.com.au/outlet/event/b2962c06-f5eb-4a9d-9a1b-300754c08389
LOCATION:Bottlemart Express - Allies Hotel (Myers Flat, VIC)
END:VEVENT
END:VCALENDAR