BEGIN:VCALENDAR
VERSION:2.0
BEGIN:VEVENT
URL:https://tickets.oztix.com.au/outlet/event/b270615d-ef06-4426-a28a-fa5aa8545038
DTSTART:20260426T100000Z
DTEND:20260426T100000Z
SUMMARY:FABBA – The Ultimate ABBA Experience
DESCRIPTION:Event details: https://tickets.oztix.com.au/outlet/event/b270615d-ef06-4426-a28a-fa5aa8545038
LOCATION:Halekulani Bowling Club (Budgewoi, NSW)
END:VEVENT
END:VCALENDAR