BEGIN:VCALENDAR
VERSION:2.0
BEGIN:VEVENT
URL:https://tickets.oztix.com.au/outlet/event/b1111a6a-ff61-45ea-a394-59810cc854e0
DTSTART:20260612T090000Z
DTEND:20260612T090000Z
SUMMARY:Fresh Off Da Boat - Mareeba
DESCRIPTION:Event details: https://tickets.oztix.com.au/outlet/event/b1111a6a-ff61-45ea-a394-59810cc854e0
LOCATION:Mareeba International Club (Mareeba, QLD)
END:VEVENT
END:VCALENDAR