BEGIN:VCALENDAR
VERSION:2.0
BEGIN:VEVENT
URL:https://tickets.oztix.com.au/outlet/event/b0967f6c-18dc-445e-bf0e-8292ffcfb1e3
DTSTART:20260523T110000Z
DTEND:20260523T110000Z
SUMMARY:(POV Presents: SUUNE)
DESCRIPTION:Event details: https://tickets.oztix.com.au/outlet/event/b0967f6c-18dc-445e-bf0e-8292ffcfb1e3
LOCATION:Burdekin Hotel (Darlinghurst, NSW)
END:VEVENT
END:VCALENDAR