BEGIN:VCALENDAR
VERSION:2.0
BEGIN:VEVENT
URL:https://tickets.oztix.com.au/outlet/event/aed7e980-b3fc-480d-8556-0eb8ec3c0f85
DTSTART:20260530T090000Z
DTEND:20260530T090000Z
SUMMARY:Complete
DESCRIPTION:Event details: https://tickets.oztix.com.au/outlet/event/aed7e980-b3fc-480d-8556-0eb8ec3c0f85
LOCATION:Volta (Ballarat Central, VIC)
END:VEVENT
END:VCALENDAR