BEGIN:VCALENDAR
VERSION:2.0
BEGIN:VEVENT
URL:https://tickets.oztix.com.au/outlet/event/ae7343af-d457-4206-b0d9-a0acad1bdbd4
DTSTART:20260707T080000Z
DTEND:20260707T080000Z
SUMMARY:Amber Lawrence - ‘Cowgirl to Me’ Tour - Tamworth Album Launch
DESCRIPTION:Event details: https://tickets.oztix.com.au/outlet/event/ae7343af-d457-4206-b0d9-a0acad1bdbd4
LOCATION:The Press Basement Bar (Tamworth , NSW)
END:VEVENT
END:VCALENDAR