BEGIN:VCALENDAR
VERSION:2.0
BEGIN:VEVENT
URL:https://tickets.oztix.com.au/outlet/event/ae679601-bcc8-4d7b-81ec-ad3211c1dc56
DTSTART:20260815T100000Z
DTEND:20260815T100000Z
SUMMARY:ONE OF THESE NIGHTS THE EAGLES EXPERIENCE
DESCRIPTION:Event details: https://tickets.oztix.com.au/outlet/event/ae679601-bcc8-4d7b-81ec-ad3211c1dc56
LOCATION:Halekulani Bowling Club (Budgewoi, NSW)
END:VEVENT
END:VCALENDAR