BEGIN:VCALENDAR
VERSION:2.0
BEGIN:VEVENT
URL:https://tickets.oztix.com.au/outlet/event/adbf906f-7818-43cf-a4bd-054502222dbd
DTSTART:20260428T083000Z
DTEND:20260428T083000Z
SUMMARY:Open Mic Comedy @King O'Malley's
DESCRIPTION:Event details: https://tickets.oztix.com.au/outlet/event/adbf906f-7818-43cf-a4bd-054502222dbd
LOCATION:King O'Malley's (Canberra , ACT)
END:VEVENT
END:VCALENDAR