BEGIN:VCALENDAR
VERSION:2.0
BEGIN:VEVENT
URL:https://tickets.oztix.com.au/outlet/event/adb9934e-1f68-4a94-b7d1-c42d58cee81a
DTSTART:20260512T090000Z
DTEND:20260512T090000Z
SUMMARY:The Jungle Giants 'Experiencing Feelings of Joy - Album Launch Parties’
DESCRIPTION:Event details: https://tickets.oztix.com.au/outlet/event/adb9934e-1f68-4a94-b7d1-c42d58cee81a
LOCATION:The Brightside (Fortitude Valley, QLD)
END:VEVENT
END:VCALENDAR