BEGIN:VCALENDAR
VERSION:2.0
BEGIN:VEVENT
URL:https://tickets.oztix.com.au/outlet/event/ad794767-cc5b-412b-b1f2-ae856c024b52
DTSTART:20260425T090000Z
DTEND:20260425T090000Z
SUMMARY:No Scrubs - Eumundi
DESCRIPTION:Event details: https://tickets.oztix.com.au/outlet/event/ad794767-cc5b-412b-b1f2-ae856c024b52
LOCATION:Imperial Hotel Eumundi (Eumundi, QLD)
END:VEVENT
END:VCALENDAR