BEGIN:VCALENDAR
VERSION:2.0
BEGIN:VEVENT
URL:https://tickets.oztix.com.au/outlet/event/a9a2b459-bde5-401f-ae7c-ed234bf2f7de
DTSTART:20260617T093000Z
DTEND:20260617T093000Z
SUMMARY:Cola (Canada) - Australian Tour | Adelaide
DESCRIPTION:Event details: https://tickets.oztix.com.au/outlet/event/a9a2b459-bde5-401f-ae7c-ed234bf2f7de
LOCATION:Ed Castle Hotel (Adelaide, SA)
END:VEVENT
END:VCALENDAR