BEGIN:VCALENDAR
VERSION:2.0
BEGIN:VEVENT
URL:https://tickets.oztix.com.au/outlet/event/a9729789-e28f-43e1-a9dd-8e03f78932cd
DTSTART:20260711T090000Z
DTEND:20260711T090000Z
SUMMARY:The Dead End - Katoomba - Death Metal & Burlesque
DESCRIPTION:Event details: https://tickets.oztix.com.au/outlet/event/a9729789-e28f-43e1-a9dd-8e03f78932cd
LOCATION:The Baroque Room (Katoomba, NSW)
END:VEVENT
END:VCALENDAR