BEGIN:VCALENDAR
VERSION:2.0
BEGIN:VEVENT
URL:https://tickets.oztix.com.au/outlet/event/a93b000d-250b-4d54-b83e-dc71644d2146
DTSTART:20260717T090000Z
DTEND:20260717T090000Z
SUMMARY:GUTTER RITUAL
DESCRIPTION:Event details: https://tickets.oztix.com.au/outlet/event/a93b000d-250b-4d54-b83e-dc71644d2146
LOCATION:Tomcat (Fortitude Valley, QLD)
END:VEVENT
END:VCALENDAR