BEGIN:VCALENDAR
VERSION:2.0
BEGIN:VEVENT
URL:https://tickets.oztix.com.au/outlet/event/a8a0a757-d28e-4891-b647-0a9e2cd992f8
DTSTART:20260514T100000Z
DTEND:20260514T100000Z
SUMMARY:Chale Wote w/ Annwen Roberts + Flora Carbo
DESCRIPTION:Event details: https://tickets.oztix.com.au/outlet/event/a8a0a757-d28e-4891-b647-0a9e2cd992f8
LOCATION:Bar Open (Fitzroy, VIC)
END:VEVENT
END:VCALENDAR