BEGIN:VCALENDAR
VERSION:2.0
BEGIN:VEVENT
URL:https://tickets.oztix.com.au/outlet/event/a8941b12-e653-4a4a-be9a-0e6e42258965
DTSTART:20260606T090000Z
DTEND:20260606T090000Z
SUMMARY:GBC Winter Party 2026
DESCRIPTION:Event details: https://tickets.oztix.com.au/outlet/event/a8941b12-e653-4a4a-be9a-0e6e42258965
LOCATION:Engadine Tavern (Engadine, NSW)
END:VEVENT
END:VCALENDAR