BEGIN:VCALENDAR
VERSION:2.0
BEGIN:VEVENT
URL:https://tickets.oztix.com.au/outlet/event/a864d106-1ed6-49bb-9d23-b2bbcae96e40
DTSTART:20260523T033000Z
DTEND:20260523T033000Z
SUMMARY:Naaki Soul + A.D. Heaven & Bon Pour Bruler
DESCRIPTION:Event details: https://tickets.oztix.com.au/outlet/event/a864d106-1ed6-49bb-9d23-b2bbcae96e40
LOCATION:The Junk Bar (New Farm, QLD)
END:VEVENT
END:VCALENDAR