BEGIN:VCALENDAR
VERSION:2.0
BEGIN:VEVENT
URL:https://tickets.oztix.com.au/outlet/event/a8581b10-b5cf-45ca-8cd0-18ce0b848fc8
DTSTART:20260613T090000Z
DTEND:20260613T090000Z
SUMMARY:THIRD EYE & KHAN – 10 Year Dual-Headline Australian Tour
DESCRIPTION:Event details: https://tickets.oztix.com.au/outlet/event/a8581b10-b5cf-45ca-8cd0-18ce0b848fc8
LOCATION:Crowbar Brisbane (Fortitude Valley, QLD)
END:VEVENT
END:VCALENDAR