BEGIN:VCALENDAR
VERSION:2.0
BEGIN:VEVENT
URL:https://tickets.oztix.com.au/outlet/event/a7f4d4a0-5a1f-4874-9f8a-2302c504b23c
DTSTART:20260606T110000Z
DTEND:20260606T110000Z
SUMMARY:Velvet Shock: Retro Beats Unlimited at The Underground
DESCRIPTION:Event details: https://tickets.oztix.com.au/outlet/event/a7f4d4a0-5a1f-4874-9f8a-2302c504b23c
LOCATION:Lyric's Underground (Maylands, WA)
END:VEVENT
END:VCALENDAR