BEGIN:VCALENDAR
VERSION:2.0
BEGIN:VEVENT
URL:https://tickets.oztix.com.au/outlet/event/a71ce59a-fe16-4eca-b066-26bf41713e7d
DTSTART:20260516T103000Z
DTEND:20260516T103000Z
SUMMARY:Alley Stranglers, Death of Nexus and The Wax Eaters
DESCRIPTION:Event details: https://tickets.oztix.com.au/outlet/event/a71ce59a-fe16-4eca-b066-26bf41713e7d
LOCATION:Westernport Hotel - San Remo (San Remo, VIC)
END:VEVENT
END:VCALENDAR