BEGIN:VCALENDAR
VERSION:2.0
BEGIN:VEVENT
URL:https://tickets.oztix.com.au/outlet/event/a566ccd0-0086-497b-a39e-835d653d23cf
DTSTART:20260730T090000Z
DTEND:20260730T090000Z
SUMMARY:Parents Battle of the Bands: Inner East Battle
DESCRIPTION:Event details: https://tickets.oztix.com.au/outlet/event/a566ccd0-0086-497b-a39e-835d653d23cf
LOCATION:The Leadbeater Hotel (Richmond, VIC)
END:VEVENT
END:VCALENDAR