BEGIN:VCALENDAR
VERSION:2.0
BEGIN:VEVENT
URL:https://tickets.oztix.com.au/outlet/event/a499e243-6fd0-442f-b0f9-8da745e30456
DTSTART:20260502T090000Z
DTEND:20260502T090000Z
SUMMARY:horse in Sydney
DESCRIPTION:Event details: https://tickets.oztix.com.au/outlet/event/a499e243-6fd0-442f-b0f9-8da745e30456
LOCATION:Botany View Hotel (Newtown, NSW)
END:VEVENT
END:VCALENDAR