BEGIN:VCALENDAR
VERSION:2.0
BEGIN:VEVENT
URL:https://tickets.oztix.com.au/outlet/event/a3e01b48-17c1-4591-b149-7d50f2daa9b2
DTSTART:20260508T103000Z
DTEND:20260508T103000Z
SUMMARY:JULES SHELDON & THE BOUNDARY RIDERS w/ FREYA JOSEPHINE HOLLICK
DESCRIPTION:Event details: https://tickets.oztix.com.au/outlet/event/a3e01b48-17c1-4591-b149-7d50f2daa9b2
LOCATION:The Merri Creek Tavern (Northcote, VIC)
END:VEVENT
END:VCALENDAR