BEGIN:VCALENDAR
VERSION:2.0
BEGIN:VEVENT
URL:https://tickets.oztix.com.au/outlet/event/a3a849fd-fbd7-4f39-8d9e-0735cf701175
DTSTART:20260523T110000Z
DTEND:20260523T110000Z
SUMMARY:Tiramisu Mysterioso - debut headline show!
DESCRIPTION:Event details: https://tickets.oztix.com.au/outlet/event/a3a849fd-fbd7-4f39-8d9e-0735cf701175
LOCATION:The Bridge Hotel, Castlemaine (Castlemaine, VIC)
END:VEVENT
END:VCALENDAR