BEGIN:VCALENDAR
VERSION:2.0
BEGIN:VEVENT
URL:https://tickets.oztix.com.au/outlet/event/a2cce68e-7b55-43ca-8e5d-ab5cc3fd7f95
DTSTART:20260522T100000Z
DTEND:20260522T100000Z
SUMMARY:The Heavy Kicks + Sammy Owen Blues Band + Zevon Lee
DESCRIPTION:Event details: https://tickets.oztix.com.au/outlet/event/a2cce68e-7b55-43ca-8e5d-ab5cc3fd7f95
LOCATION:Shotkickers (Thornbury, VIC)
END:VEVENT
END:VCALENDAR